BEGIN:VCALENDAR
VERSION:2.0
PRODID:-//Ville de Jarnac - ECPv6.10.2//NONSGML v1.0//EN
CALSCALE:GREGORIAN
METHOD:PUBLISH
X-ORIGINAL-URL:https://www.ville-de-jarnac.fr
X-WR-CALDESC:Évènements pour Ville de Jarnac
REFRESH-INTERVAL;VALUE=DURATION:PT1H
X-Robots-Tag:noindex
X-PUBLISHED-TTL:PT1H
BEGIN:VTIMEZONE
TZID:Europe/Paris
BEGIN:DAYLIGHT
TZOFFSETFROM:+0100
TZOFFSETTO:+0200
TZNAME:CEST
DTSTART:20220327T010000
END:DAYLIGHT
BEGIN:STANDARD
TZOFFSETFROM:+0200
TZOFFSETTO:+0100
TZNAME:CET
DTSTART:20221030T010000
END:STANDARD
END:VTIMEZONE
BEGIN:VEVENT
DTSTART;VALUE=DATE:20220909
DTEND;VALUE=DATE:20220911
DTSTAMP:20260420T062717
CREATED:20220901T100443Z
LAST-MODIFIED:20220901T100501Z
UID:10517-1662681600-1662854399@www.ville-de-jarnac.fr
SUMMARY:80 ans du basket
DESCRIPTION:Le JSBB fête ses 80ans !\nJoueuses\, joueurs\, partenaires\, parents\, enfants\, nouveaux ou anciens licenciés\, fêtons ensemble l’anniversaire de notre club historique\nAu programme de ce week-end festif :\nVendredi 09 Septembre à partir de 20h30 au COSEC :\n– Mise en avant du basket Handisport avec le club Entente Sportive Blanquefortaise handisport (Démonstration\, pratique mise à l’honneur)\n– Buvette\nSamedi 10 Septembre à partir de 11h sur la place du Château :\n– Animation pour les adultes les petits\n– Restauration / Buvette\nSamedi 10 Septembre à partir de 19h30 à la salle des fêtes de Jarnac :\n– Repas\n– Concert « Les Back’us »\n– Soirée Dansante
URL:https://www.ville-de-jarnac.fr/agenda/10517/
CATEGORIES:Animation,Soirée dansante,sport
END:VEVENT
END:VCALENDAR