BEGIN:VCALENDAR
VERSION:2.0
PRODID:-//Ville de Jarnac - ECPv6.10.2//NONSGML v1.0//EN
CALSCALE:GREGORIAN
METHOD:PUBLISH
X-ORIGINAL-URL:https://www.ville-de-jarnac.fr
X-WR-CALDESC:Évènements pour Ville de Jarnac
REFRESH-INTERVAL;VALUE=DURATION:PT1H
X-Robots-Tag:noindex
X-PUBLISHED-TTL:PT1H
BEGIN:VTIMEZONE
TZID:Europe/Paris
BEGIN:DAYLIGHT
TZOFFSETFROM:+0100
TZOFFSETTO:+0200
TZNAME:CEST
DTSTART:20190331T010000
END:DAYLIGHT
BEGIN:STANDARD
TZOFFSETFROM:+0200
TZOFFSETTO:+0100
TZNAME:CET
DTSTART:20191027T010000
END:STANDARD
BEGIN:DAYLIGHT
TZOFFSETFROM:+0100
TZOFFSETTO:+0200
TZNAME:CEST
DTSTART:20200329T010000
END:DAYLIGHT
BEGIN:STANDARD
TZOFFSETFROM:+0200
TZOFFSETTO:+0100
TZNAME:CET
DTSTART:20201025T010000
END:STANDARD
END:VTIMEZONE
BEGIN:VEVENT
DTSTART;TZID=Europe/Paris:20191231T200000
DTEND;TZID=Europe/Paris:20200101T060000
DTSTAMP:20260422T082634
CREATED:20191030T104057Z
LAST-MODIFIED:20191210T150617Z
UID:8289-1577822400-1577858400@www.ville-de-jarnac.fr
SUMMARY:Réveillon du Jumelage
DESCRIPTION:Le Comité de Jumelage organise le réveillon de la Saint Sylvestre\, à la salle des fêtes de Jarnac. A partir de 20h00. \nTraiteur : « Gargantua » – M. Christophe Baudry. \nSoirée animée par Story Music. \n72 € – enfant moins de 12 ans : 25 € \nRéservations avant le 14 décembre : \nMme F. Alligant au 05 45 81 17 59 \nMme J. Routurier au 05 45 81 04 07
URL:https://www.ville-de-jarnac.fr/agenda/reveillon-du-jumelage/
LOCATION:Salle des Fêtes\, 42\, route de Luchac\, JARNAC\, 16200
CATEGORIES:Soirée dansante
END:VEVENT
END:VCALENDAR