BEGIN:VCALENDAR
VERSION:2.0
PRODID:-//Ville de Jarnac - ECPv6.10.2//NONSGML v1.0//EN
CALSCALE:GREGORIAN
METHOD:PUBLISH
X-ORIGINAL-URL:https://www.ville-de-jarnac.fr
X-WR-CALDESC:Évènements pour Ville de Jarnac
REFRESH-INTERVAL;VALUE=DURATION:PT1H
X-Robots-Tag:noindex
X-PUBLISHED-TTL:PT1H
BEGIN:VTIMEZONE
TZID:Europe/Paris
BEGIN:DAYLIGHT
TZOFFSETFROM:+0100
TZOFFSETTO:+0200
TZNAME:CEST
DTSTART:20190331T010000
END:DAYLIGHT
BEGIN:STANDARD
TZOFFSETFROM:+0200
TZOFFSETTO:+0100
TZNAME:CET
DTSTART:20191027T010000
END:STANDARD
END:VTIMEZONE
BEGIN:VEVENT
DTSTART;TZID=Europe/Paris:20191031T193000
DTEND;TZID=Europe/Paris:20191031T233000
DTSTAMP:20260422T104446
CREATED:20191003T072352Z
LAST-MODIFIED:20191003T072352Z
UID:8187-1572550200-1572564600@www.ville-de-jarnac.fr
SUMMARY:Nuit du rugby
DESCRIPTION:Le Racing Club de Jarnac organise son dîner dansant. \nRéservation avant le 25 octobre. \nRenseignements : Mme Sophie HAGE au 06.89.54.35.43
URL:https://www.ville-de-jarnac.fr/agenda/nuit-du-rugby-3/
LOCATION:Salle des Fêtes\, 42\, route de Luchac\, JARNAC\, 16200
CATEGORIES:Soirée dansante
END:VEVENT
END:VCALENDAR