BEGIN:VCALENDAR
VERSION:2.0
PRODID:-//Ville de Jarnac - ECPv6.10.2//NONSGML v1.0//EN
CALSCALE:GREGORIAN
METHOD:PUBLISH
X-ORIGINAL-URL:https://www.ville-de-jarnac.fr
X-WR-CALDESC:Évènements pour Ville de Jarnac
REFRESH-INTERVAL;VALUE=DURATION:PT1H
X-Robots-Tag:noindex
X-PUBLISHED-TTL:PT1H
BEGIN:VTIMEZONE
TZID:Europe/Paris
BEGIN:DAYLIGHT
TZOFFSETFROM:+0100
TZOFFSETTO:+0200
TZNAME:CEST
DTSTART:20230326T010000
END:DAYLIGHT
BEGIN:STANDARD
TZOFFSETFROM:+0200
TZOFFSETTO:+0100
TZNAME:CET
DTSTART:20231029T010000
END:STANDARD
END:VTIMEZONE
BEGIN:VEVENT
DTSTART;VALUE=DATE:20230826
DTEND;VALUE=DATE:20230828
DTSTAMP:20260420T035313
CREATED:20230824T130822Z
LAST-MODIFIED:20230824T130822Z
UID:11537-1693008000-1693180799@www.ville-de-jarnac.fr
SUMMARY:Exposition & concours d'élégance voitures anciennes
DESCRIPTION:
URL:https://www.ville-de-jarnac.fr/agenda/exposition-concours-delegance-voitures-anciennes/
LOCATION:Place du Baloir\, JARNAC
CATEGORIES:CONCOURS,Exposition
END:VEVENT
END:VCALENDAR