BEGIN:VCALENDAR
VERSION:2.0
PRODID:-//Ville de Jarnac - ECPv6.10.2//NONSGML v1.0//EN
CALSCALE:GREGORIAN
METHOD:PUBLISH
X-WR-CALNAME:Ville de Jarnac
X-ORIGINAL-URL:https://www.ville-de-jarnac.fr
X-WR-CALDESC:Évènements pour Ville de Jarnac
REFRESH-INTERVAL;VALUE=DURATION:PT1H
X-Robots-Tag:noindex
X-PUBLISHED-TTL:PT1H
BEGIN:VTIMEZONE
TZID:Europe/Paris
BEGIN:DAYLIGHT
TZOFFSETFROM:+0100
TZOFFSETTO:+0200
TZNAME:CEST
DTSTART:20230326T010000
END:DAYLIGHT
BEGIN:STANDARD
TZOFFSETFROM:+0200
TZOFFSETTO:+0100
TZNAME:CET
DTSTART:20231029T010000
END:STANDARD
END:VTIMEZONE
BEGIN:VEVENT
DTSTART;TZID=Europe/Paris:20230624T100000
DTEND;TZID=Europe/Paris:20230702T190000
DTSTAMP:20260420T064449
CREATED:20230523T132459Z
LAST-MODIFIED:20230523T142250Z
UID:11278-1687600800-1688324400@www.ville-de-jarnac.fr
SUMMARY:Exposition de peintures
DESCRIPTION:La peinture de Mandarine se situe entre réel et imaginaire. L’artiste se laisse guider apprivoise formes et couleurs\, les mélange\, créant ainsi des univers aux ciels immenses\, tumultueux\, mystérieux parfois…peuplés de villes indéfinies…mais également de pause florales aux couleurs vibrantes. \nUn voyage onirique au sein duquel douceur et force s’entremêlent\, se coordonnent avec subtilité. \nTous les jours 10h-19h \nHôtel Renard \nInfo 06 61 53 36 86 \nAvec le soutien de la ville de Jarnac.
URL:https://www.ville-de-jarnac.fr/agenda/exposition-de-peintures/
LOCATION:Hôtel Renard\, 14\, quai de l'Orangerie\, JARNAC\, 16200
CATEGORIES:Exposition
END:VEVENT
END:VCALENDAR