BEGIN:VCALENDAR
VERSION:2.0
PRODID:-//Ville de Jarnac - ECPv6.10.2//NONSGML v1.0//EN
CALSCALE:GREGORIAN
METHOD:PUBLISH
X-ORIGINAL-URL:https://www.ville-de-jarnac.fr
X-WR-CALDESC:Évènements pour Ville de Jarnac
REFRESH-INTERVAL;VALUE=DURATION:PT1H
X-Robots-Tag:noindex
X-PUBLISHED-TTL:PT1H
BEGIN:VTIMEZONE
TZID:Europe/Paris
BEGIN:DAYLIGHT
TZOFFSETFROM:+0100
TZOFFSETTO:+0200
TZNAME:CEST
DTSTART:20230326T010000
END:DAYLIGHT
BEGIN:STANDARD
TZOFFSETFROM:+0200
TZOFFSETTO:+0100
TZNAME:CET
DTSTART:20231029T010000
END:STANDARD
END:VTIMEZONE
BEGIN:VEVENT
DTSTART;VALUE=DATE:20230506
DTEND;VALUE=DATE:20230515
DTSTAMP:20260420T075841
CREATED:20230417T120055Z
LAST-MODIFIED:20230417T120055Z
UID:11172-1683331200-1684108799@www.ville-de-jarnac.fr
SUMMARY:Exposition
DESCRIPTION:
URL:https://www.ville-de-jarnac.fr/agenda/exposition/
LOCATION:Hôtel Renard\, 14\, quai de l'Orangerie\, JARNAC\, 16200
CATEGORIES:Exposition
END:VEVENT
END:VCALENDAR