BEGIN:VCALENDAR
VERSION:2.0
PRODID:-//Ville de Jarnac - ECPv6.10.2//NONSGML v1.0//EN
CALSCALE:GREGORIAN
METHOD:PUBLISH
X-ORIGINAL-URL:https://www.ville-de-jarnac.fr
X-WR-CALDESC:Évènements pour Ville de Jarnac
REFRESH-INTERVAL;VALUE=DURATION:PT1H
X-Robots-Tag:noindex
X-PUBLISHED-TTL:PT1H
BEGIN:VTIMEZONE
TZID:Europe/Paris
BEGIN:DAYLIGHT
TZOFFSETFROM:+0100
TZOFFSETTO:+0200
TZNAME:CEST
DTSTART:20240331T010000
END:DAYLIGHT
BEGIN:STANDARD
TZOFFSETFROM:+0200
TZOFFSETTO:+0100
TZNAME:CET
DTSTART:20241027T010000
END:STANDARD
END:VTIMEZONE
BEGIN:VEVENT
DTSTART;VALUE=DATE:20240315
DTEND;VALUE=DATE:20240318
DTSTAMP:20260424T202412
CREATED:20240301T091754Z
LAST-MODIFIED:20240301T091754Z
UID:12070-1710460800-1710719999@www.ville-de-jarnac.fr
SUMMARY:Festival des métiers du cinéma
DESCRIPTION:Festival organisé par Les Cinémaniacs Jarnacais.
URL:https://www.ville-de-jarnac.fr/agenda/festival-des-metiers-du-cinema-2/
LOCATION:Auditorium Maurice Ravel\, 42\, route de Luchac\, Jarnac\, 16200
CATEGORIES:Cinéma,Conférence
END:VEVENT
BEGIN:VEVENT
DTSTART;TZID=Europe/Paris:20240322T180000
DTEND;TZID=Europe/Paris:20240322T200000
DTSTAMP:20260424T202412
CREATED:20240219T123732Z
LAST-MODIFIED:20240219T123732Z
UID:12047-1711130400-1711137600@www.ville-de-jarnac.fr
SUMMARY:Exposition "Piqures de guêpes"
DESCRIPTION:Présentation du livre Piqûres de guêpes\, suivi d’une dédicace\, en même temps qu’un vernissage de l’exposition des tableaux de Philippe Batini.
URL:https://www.ville-de-jarnac.fr/agenda/exposition-piqures-de-guepes/
LOCATION:Maison natale François Mitterrand\, 22\, rue Abel Guy\, JARNAC\, 16200\, France
CATEGORIES:Conférence,Exposition
END:VEVENT
BEGIN:VEVENT
DTSTART;TZID=Europe/Paris:20240328T190000
DTEND;TZID=Europe/Paris:20240328T213000
DTSTAMP:20260424T202412
CREATED:20240219T123457Z
LAST-MODIFIED:20240219T123457Z
UID:12043-1711652400-1711661400@www.ville-de-jarnac.fr
SUMMARY:Conférence
DESCRIPTION:
URL:https://www.ville-de-jarnac.fr/agenda/conference-2/
CATEGORIES:Conférence
END:VEVENT
END:VCALENDAR