BEGIN:VCALENDAR
VERSION:2.0
PRODID:-//Ville de Jarnac - ECPv6.10.2//NONSGML v1.0//EN
CALSCALE:GREGORIAN
METHOD:PUBLISH
X-ORIGINAL-URL:https://www.ville-de-jarnac.fr
X-WR-CALDESC:Évènements pour Ville de Jarnac
REFRESH-INTERVAL;VALUE=DURATION:PT1H
X-Robots-Tag:noindex
X-PUBLISHED-TTL:PT1H
BEGIN:VTIMEZONE
TZID:Europe/Paris
BEGIN:DAYLIGHT
TZOFFSETFROM:+0100
TZOFFSETTO:+0200
TZNAME:CEST
DTSTART:20220327T010000
END:DAYLIGHT
BEGIN:STANDARD
TZOFFSETFROM:+0200
TZOFFSETTO:+0100
TZNAME:CET
DTSTART:20221030T010000
END:STANDARD
END:VTIMEZONE
BEGIN:VEVENT
DTSTART;TZID=Europe/Paris:20221124T203000
DTEND;TZID=Europe/Paris:20221124T230000
DTSTAMP:20260424T124458
CREATED:20221104T151730Z
LAST-MODIFIED:20221104T151730Z
UID:10761-1669321800-1669330800@www.ville-de-jarnac.fr
SUMMARY:Conférence : La communication non violente
DESCRIPTION:Conférence organisée par le groupe œcuménique du pays de Jarnac et animée par le Dr Pascale Molho. \nContact mail \nLibre participation aux frais \n 
URL:https://www.ville-de-jarnac.fr/agenda/conference-la-communication-non-violente/
LOCATION:Hôtel Renard\, 14\, quai de l'Orangerie\, JARNAC\, 16200
CATEGORIES:Conférence
END:VEVENT
END:VCALENDAR