BEGIN:VCALENDAR
VERSION:2.0
PRODID:-//Ville de Jarnac - ECPv6.10.2//NONSGML v1.0//EN
CALSCALE:GREGORIAN
METHOD:PUBLISH
X-ORIGINAL-URL:https://www.ville-de-jarnac.fr
X-WR-CALDESC:Évènements pour Ville de Jarnac
REFRESH-INTERVAL;VALUE=DURATION:PT1H
X-Robots-Tag:noindex
X-PUBLISHED-TTL:PT1H
BEGIN:VTIMEZONE
TZID:Europe/Paris
BEGIN:DAYLIGHT
TZOFFSETFROM:+0100
TZOFFSETTO:+0200
TZNAME:CEST
DTSTART:20220327T010000
END:DAYLIGHT
BEGIN:STANDARD
TZOFFSETFROM:+0200
TZOFFSETTO:+0100
TZNAME:CET
DTSTART:20221030T010000
END:STANDARD
END:VTIMEZONE
BEGIN:VEVENT
DTSTART;TZID=Europe/Paris:20220512T203000
DTEND;TZID=Europe/Paris:20220512T223000
DTSTAMP:20260424T215221
CREATED:20220401T081334Z
LAST-MODIFIED:20220401T081334Z
UID:10094-1652387400-1652394600@www.ville-de-jarnac.fr
SUMMARY:Ciné conférence
DESCRIPTION:Daniel Grené propose la projection de son film « La Chine\, un pays de contrastes« \, suivie d’un débat.\n20h30 Auditorium Maurice Ravel.\n\nEn partenariat avec le service culturel de la mairie de Jarnac.\nEntrée gratuite.\nRenseignements au 06 77 96 72 55
URL:https://www.ville-de-jarnac.fr/agenda/cine-conference/
LOCATION:Auditorium Maurice Ravel\, 42\, route de Luchac\, Jarnac\, 16200
CATEGORIES:Conférence
END:VEVENT
END:VCALENDAR