BEGIN:VCALENDAR
VERSION:2.0
PRODID:-//Ville de Jarnac - ECPv6.10.2//NONSGML v1.0//EN
CALSCALE:GREGORIAN
METHOD:PUBLISH
X-WR-CALNAME:Ville de Jarnac
X-ORIGINAL-URL:https://www.ville-de-jarnac.fr
X-WR-CALDESC:Évènements pour Ville de Jarnac
REFRESH-INTERVAL;VALUE=DURATION:PT1H
X-Robots-Tag:noindex
X-PUBLISHED-TTL:PT1H
BEGIN:VTIMEZONE
TZID:Europe/Paris
BEGIN:DAYLIGHT
TZOFFSETFROM:+0100
TZOFFSETTO:+0200
TZNAME:CEST
DTSTART:20250330T010000
END:DAYLIGHT
BEGIN:STANDARD
TZOFFSETFROM:+0200
TZOFFSETTO:+0100
TZNAME:CET
DTSTART:20251026T010000
END:STANDARD
END:VTIMEZONE
BEGIN:VEVENT
DTSTART;VALUE=DATE:20250717
DTEND;VALUE=DATE:20250803
DTSTAMP:20260421T140754
CREATED:20250422T100415Z
LAST-MODIFIED:20250422T100415Z
UID:13209-1752710400-1754179199@www.ville-de-jarnac.fr
SUMMARY:Les 3 Coups de Jarnac
DESCRIPTION:
URL:https://www.ville-de-jarnac.fr/agenda/les-3-coups-de-jarnac/
CATEGORIES:Animation,Spectacle
END:VEVENT
BEGIN:VEVENT
DTSTART;TZID=Europe/Paris:20250801T190000
DTEND;TZID=Europe/Paris:20250801T230000
DTSTAMP:20260421T140754
CREATED:20250717T071333Z
LAST-MODIFIED:20250717T071333Z
UID:13403-1754074800-1754089200@www.ville-de-jarnac.fr
SUMMARY:Marché nocturne
DESCRIPTION:
URL:https://www.ville-de-jarnac.fr/agenda/marche-nocturne/
LOCATION:centre-ville
CATEGORIES:Animation
END:VEVENT
END:VCALENDAR