BEGIN:VCALENDAR
VERSION:2.0
PRODID:-//Ville de Jarnac - ECPv6.10.2//NONSGML v1.0//EN
CALSCALE:GREGORIAN
METHOD:PUBLISH
X-WR-CALNAME:Ville de Jarnac
X-ORIGINAL-URL:https://www.ville-de-jarnac.fr
X-WR-CALDESC:Évènements pour Ville de Jarnac
REFRESH-INTERVAL;VALUE=DURATION:PT1H
X-Robots-Tag:noindex
X-PUBLISHED-TTL:PT1H
BEGIN:VTIMEZONE
TZID:Europe/Paris
BEGIN:DAYLIGHT
TZOFFSETFROM:+0100
TZOFFSETTO:+0200
TZNAME:CEST
DTSTART:20240331T010000
END:DAYLIGHT
BEGIN:STANDARD
TZOFFSETFROM:+0200
TZOFFSETTO:+0100
TZNAME:CET
DTSTART:20241027T010000
END:STANDARD
END:VTIMEZONE
BEGIN:VEVENT
DTSTART;VALUE=DATE:20240219
DTEND;VALUE=DATE:20240222
DTSTAMP:20260422T154524
CREATED:20240202T131840Z
LAST-MODIFIED:20240202T131840Z
UID:11988-1708300800-1708559999@www.ville-de-jarnac.fr
SUMMARY:Festival Anim'hiver
DESCRIPTION:La mairie de Jarnac propose un festival jeune public. \nLundi 19 février – Salle des Foudres \n\n10h30 Spectacle Orimagine (0-3 ans)\n15h30 Spectacle Mademoiselle (dès 4 ans)\n\nMardi 20 février – Salle des Foudres \n\n10h30 Spectacle Le cadeau (0-3 ans)\n15h30 Spectacle Gil & Zut (dès 4 ans)\n\nMercredi 21 février – Auditorium \n\n10h30 Projection La pat patrouille : La super patrouille\n14H30 Projection Wish : Asha et la bonne étoile\n\nTarif unique 4€ par spectacle ou projection.  \nGoûter offert. \nRéservation conseillée pour les 19 et 20 au 05 45 81 47 34.
URL:https://www.ville-de-jarnac.fr/agenda/festival-animhiver/
CATEGORIES:Animation
END:VEVENT
BEGIN:VEVENT
DTSTART;VALUE=DATE:20240220
DTEND;VALUE=DATE:20240227
DTSTAMP:20260422T154524
CREATED:20240123T100934Z
LAST-MODIFIED:20240123T100934Z
UID:11964-1708387200-1708991999@www.ville-de-jarnac.fr
SUMMARY:Stages "Nos artistes en herbe"
DESCRIPTION:
URL:https://www.ville-de-jarnac.fr/agenda/stages-nos-artistes-en-herbe/
CATEGORIES:Animation
ORGANIZER;CN="Nos Artistes en Herbe":MAILTO:lydie.lecrivain17@orange.fr
END:VEVENT
END:VCALENDAR