BEGIN:VCALENDAR
VERSION:2.0
PRODID:-//Ville de Jarnac - ECPv6.10.2//NONSGML v1.0//EN
CALSCALE:GREGORIAN
METHOD:PUBLISH
X-WR-CALNAME:Ville de Jarnac
X-ORIGINAL-URL:https://www.ville-de-jarnac.fr
X-WR-CALDESC:Évènements pour Ville de Jarnac
REFRESH-INTERVAL;VALUE=DURATION:PT1H
X-Robots-Tag:noindex
X-PUBLISHED-TTL:PT1H
BEGIN:VTIMEZONE
TZID:Europe/Paris
BEGIN:DAYLIGHT
TZOFFSETFROM:+0100
TZOFFSETTO:+0200
TZNAME:CEST
DTSTART:20230326T010000
END:DAYLIGHT
BEGIN:STANDARD
TZOFFSETFROM:+0200
TZOFFSETTO:+0100
TZNAME:CET
DTSTART:20231029T010000
END:STANDARD
END:VTIMEZONE
BEGIN:VEVENT
DTSTART;VALUE=DATE:20230814
DTEND;VALUE=DATE:20230815
DTSTAMP:20260423T003723
CREATED:20230628T073941Z
LAST-MODIFIED:20230628T074238Z
UID:11407-1691971200-1692057599@www.ville-de-jarnac.fr
SUMMARY:Bal des pompiers
DESCRIPTION:L’Amicale des Sapeurs Pompiers de Jarnac organise le traditionnel bal des pompiers\, au centre de secours – Avenue de l’Europe. \nDe 19h à 3h du matin. \nRestauration sur place\, buvette \, bar à champagne \nAmbiance assurée par DJ \nEntrée gratuite – Venez nombreux !!
URL:https://www.ville-de-jarnac.fr/agenda/bal-des-pompiers/
CATEGORIES:Animation
END:VEVENT
END:VCALENDAR