BEGIN:VCALENDAR
VERSION:2.0
PRODID:-//Ville de Jarnac - ECPv6.10.2//NONSGML v1.0//EN
CALSCALE:GREGORIAN
METHOD:PUBLISH
X-WR-CALNAME:Ville de Jarnac
X-ORIGINAL-URL:https://www.ville-de-jarnac.fr
X-WR-CALDESC:Évènements pour Ville de Jarnac
REFRESH-INTERVAL;VALUE=DURATION:PT1H
X-Robots-Tag:noindex
X-PUBLISHED-TTL:PT1H
BEGIN:VTIMEZONE
TZID:Europe/Paris
BEGIN:DAYLIGHT
TZOFFSETFROM:+0100
TZOFFSETTO:+0200
TZNAME:CEST
DTSTART:20230326T010000
END:DAYLIGHT
BEGIN:STANDARD
TZOFFSETFROM:+0200
TZOFFSETTO:+0100
TZNAME:CET
DTSTART:20231029T010000
END:STANDARD
END:VTIMEZONE
BEGIN:VEVENT
DTSTART;TZID=Europe/Paris:20230402T100000
DTEND;TZID=Europe/Paris:20230402T170000
DTSTAMP:20260424T155216
CREATED:20230301T075128Z
LAST-MODIFIED:20230301T075128Z
UID:11059-1680429600-1680454800@www.ville-de-jarnac.fr
SUMMARY:Rallye photo
DESCRIPTION:Déclics’Events\, association d’organisation d’événements photographiques organise un Rallye Photo afin de découvrir à pied et de manière ludique le patrimoine de la ville grâce à la photo le dimanche 2 avril à partir de 10h sur le parking de l’Ile Madame. \nA faire en groupe\, en famille\, entre amis\, ou en solitaire\, ouvert à tous et avec tout type de matériel photographique (appareil photo ou smartphone).\nVous disposez d’une carte et d’une feuille de route que nous vous remettrons au préalable\, grâce aux points sur la carte et à votre sens de la recherche\, faites les photos demandées !\nLe prix est de 5€ par personne\, gratuit pour les – de 16 ans. \nLe rallye se déroule en 2 parties\, prévoyez toute la journée\, nous vous donnerons une partie des indices le matin et l’autre l’après-midi.\nUne restauration rapide sera disponible pour le déjeuner.\nUn prix sera remis à celle ou celui qui aura trouvé et photographié toutes les images dans le temps le plus court.\nIl est souhaitable de vous inscrire au préalable avant le 25 mars\, par mail. \nPlus d’informations : https://declics-events.blogspot.com/p/rallye-photo.html 
URL:https://www.ville-de-jarnac.fr/agenda/rallye-photo/
CATEGORIES:Animation
END:VEVENT
END:VCALENDAR