BEGIN:VCALENDAR
VERSION:2.0
PRODID:-//Ville de Jarnac - ECPv6.10.2//NONSGML v1.0//EN
CALSCALE:GREGORIAN
METHOD:PUBLISH
X-WR-CALNAME:Ville de Jarnac
X-ORIGINAL-URL:https://www.ville-de-jarnac.fr
X-WR-CALDESC:Évènements pour Ville de Jarnac
REFRESH-INTERVAL;VALUE=DURATION:PT1H
X-Robots-Tag:noindex
X-PUBLISHED-TTL:PT1H
BEGIN:VTIMEZONE
TZID:Europe/Paris
BEGIN:DAYLIGHT
TZOFFSETFROM:+0100
TZOFFSETTO:+0200
TZNAME:CEST
DTSTART:20220327T010000
END:DAYLIGHT
BEGIN:STANDARD
TZOFFSETFROM:+0200
TZOFFSETTO:+0100
TZNAME:CET
DTSTART:20221030T010000
END:STANDARD
END:VTIMEZONE
BEGIN:VEVENT
DTSTART;VALUE=DATE:20221202
DTEND;VALUE=DATE:20221205
DTSTAMP:20260424T215813
CREATED:20221027T141513Z
LAST-MODIFIED:20221027T141513Z
UID:10750-1669939200-1670198399@www.ville-de-jarnac.fr
SUMMARY:Animations Téléthon
DESCRIPTION:
URL:https://www.ville-de-jarnac.fr/agenda/animations-telethon/
CATEGORIES:Animation
END:VEVENT
BEGIN:VEVENT
DTSTART;TZID=Europe/Paris:20221209T140000
DTEND;TZID=Europe/Paris:20221209T200000
DTSTAMP:20260424T215813
CREATED:20221014T143605Z
LAST-MODIFIED:20221014T143605Z
UID:10712-1670594400-1670616000@www.ville-de-jarnac.fr
SUMMARY:Marché de Noël de la MFR
DESCRIPTION:Organisé par la MFR de Jarnac. \nVenez découvrir le travail des élèves ainsi que de nombreux stands et animations pour petits et grands. \nGonfleur de ballons\, maquillages pour enfants\, promenade en poney\, photo avec le Père Noël.
URL:https://www.ville-de-jarnac.fr/agenda/marche-de-noel-de-la-mfr/
LOCATION:MFR\, 12\, rue Ernest Merlin\, JARNAC\, 16200
CATEGORIES:Animation
ORGANIZER;CN="MFR":MAILTO:mfr.jarnac@mfr.asso.fr
END:VEVENT
END:VCALENDAR