BEGIN:VCALENDAR
VERSION:2.0
PRODID:-//Ville de Jarnac - ECPv6.10.2//NONSGML v1.0//EN
CALSCALE:GREGORIAN
METHOD:PUBLISH
X-WR-CALNAME:Ville de Jarnac
X-ORIGINAL-URL:https://www.ville-de-jarnac.fr
X-WR-CALDESC:Évènements pour Ville de Jarnac
REFRESH-INTERVAL;VALUE=DURATION:PT1H
X-Robots-Tag:noindex
X-PUBLISHED-TTL:PT1H
BEGIN:VTIMEZONE
TZID:Europe/Paris
BEGIN:DAYLIGHT
TZOFFSETFROM:+0100
TZOFFSETTO:+0200
TZNAME:CEST
DTSTART:20220327T010000
END:DAYLIGHT
BEGIN:STANDARD
TZOFFSETFROM:+0200
TZOFFSETTO:+0100
TZNAME:CET
DTSTART:20221030T010000
END:STANDARD
END:VTIMEZONE
BEGIN:VEVENT
DTSTART;TZID=Europe/Paris:20221113T090000
DTEND;TZID=Europe/Paris:20221113T123000
DTSTAMP:20260424T231447
CREATED:20220927T101241Z
LAST-MODIFIED:20220927T101241Z
UID:10642-1668330000-1668342600@www.ville-de-jarnac.fr
SUMMARY:Rassemblement de voitures
DESCRIPTION:Comme tous les deuxièmes dimanches de chaque mois\, place du Château\, place Charles de Gaulle\,  venez assister à un rassemblement libre de collectionneurs et partager leur passion des voitures de collection.\nRenseignements au 06 62 83 67 71\nvieuxvolantsjarnacais@gmail.com
URL:https://www.ville-de-jarnac.fr/agenda/rassemblement-de-voitures-2/
LOCATION:Place Charles de Gaulle
CATEGORIES:Animation
END:VEVENT
BEGIN:VEVENT
DTSTART;VALUE=DATE:20221119
DTEND;VALUE=DATE:20221121
DTSTAMP:20260424T231447
CREATED:20221117T090750Z
LAST-MODIFIED:20221117T090750Z
UID:10785-1668816000-1668988799@www.ville-de-jarnac.fr
SUMMARY:Marché de Noël
DESCRIPTION:Marché de Noël organisé par l’APEL de l’ensemble scolaire Saint Pierre de Jarnac. \n 
URL:https://www.ville-de-jarnac.fr/agenda/marche-de-noel-6/
LOCATION:Salle des Fêtes\, 42\, route de Luchac\, JARNAC\, 16200
CATEGORIES:Animation
END:VEVENT
END:VCALENDAR