BEGIN:VCALENDAR
VERSION:2.0
PRODID:-//Ville de Jarnac - ECPv6.10.2//NONSGML v1.0//EN
CALSCALE:GREGORIAN
METHOD:PUBLISH
X-ORIGINAL-URL:https://www.ville-de-jarnac.fr
X-WR-CALDESC:Évènements pour Ville de Jarnac
REFRESH-INTERVAL;VALUE=DURATION:PT1H
X-Robots-Tag:noindex
X-PUBLISHED-TTL:PT1H
BEGIN:VTIMEZONE
TZID:Europe/Paris
BEGIN:DAYLIGHT
TZOFFSETFROM:+0100
TZOFFSETTO:+0200
TZNAME:CEST
DTSTART:20220327T010000
END:DAYLIGHT
BEGIN:STANDARD
TZOFFSETFROM:+0200
TZOFFSETTO:+0100
TZNAME:CET
DTSTART:20221030T010000
END:STANDARD
END:VTIMEZONE
BEGIN:VEVENT
DTSTART;TZID=Europe/Paris:20221008T080000
DTEND;TZID=Europe/Paris:20221009T170000
DTSTAMP:20260425T004357
CREATED:20220901T101734Z
LAST-MODIFIED:20220901T101734Z
UID:10527-1665216000-1665334800@www.ville-de-jarnac.fr
SUMMARY:Au fil du conte
DESCRIPTION:  \nSpectacles dans le cadre du festival « Au fil du conte »\, initié par le Service Départemental de la Lecture\, et organisés par la médiathèque intercommunale.\n\nSamedi 08 octobre à 20h – Anne Boutin-Pied pour Cœur battant\, tout public à partir de 6 ans (Salle des Foudres)\n\nDimanche 09 octobre à 15h – Les Volubiles pour le Final avec leur carte blanche\, tout public à partir de 7 ans (Île Madame avec repli Salle des Foudres en cas de mauvais temps)\n\n 
URL:https://www.ville-de-jarnac.fr/agenda/au-fil-du-conte/
CATEGORIES:Animation,Spectacle
END:VEVENT
BEGIN:VEVENT
DTSTART;TZID=Europe/Paris:20221009T090000
DTEND;TZID=Europe/Paris:20221009T123000
DTSTAMP:20260425T004357
CREATED:20220927T090113Z
LAST-MODIFIED:20220927T090113Z
UID:10636-1665306000-1665318600@www.ville-de-jarnac.fr
SUMMARY:Rassemblement de voitures
DESCRIPTION:Comme tous les deuxièmes dimanches de chaque mois\, place du Château\, sur le parking de la salle des fêtes\,  venez assister à un rassemblement libre de collectionneurs et partager leur passion des voitures de collection.\nRenseignements au 06 62 83 67 71\nvieuxvolantsjarnacais@gmail.com
URL:https://www.ville-de-jarnac.fr/agenda/rassemblement-de-voitures/
LOCATION:Salle des Fêtes\, 42\, route de Luchac\, Jarnac\, 16200
CATEGORIES:Animation
END:VEVENT
BEGIN:VEVENT
DTSTART;TZID=Europe/Paris:20221016T160000
DTEND;TZID=Europe/Paris:20221016T180000
DTSTAMP:20260425T004357
CREATED:20220901T105110Z
LAST-MODIFIED:20220901T105110Z
UID:10539-1665936000-1665943200@www.ville-de-jarnac.fr
SUMMARY:Concert Batterie Harmonie de Rouillac
DESCRIPTION:Le dimanche 16 octobre la Batterie Harmonie de Rouillac sera en concert dans l’auditorium Maurice Ravel de Jarnac en compagnie de Ker Seize. L’entrée sera participative.\nKer Seize est une association de danses bretonnes qui regroupe des Bretons et des sympathisants. Nous nous retrouvons le mercredi soir pour découvrir et partager les danses du patrimoine breton. Nous sommes présents au forum des associations de Jarnac\, à l’animation du Téléthon et les jeudis de juillet et août devant les bars- restaurants de Jarnac. Nous avons participé en 2019\, aux Rencontres Bretonnes du Sud-Ouest à Cartelègue en Gironde et cette année une délégation de dix personnes s’est rendue au festival inter-celtique de Lorient. \nLa Batterie Harmonie de Rouillac est un ensemble de musiciens amateurs de Charente qui se retrouvent en fin de semaine pour faire de la musique sous la direction de Nicolas Bayart. Chaque année cet ensemble donne un concert le lundi de Pâques dans l’auditorium du 27 à Rouillac. \nVous pourrez aussi les retrouver lors des commémorations du 11 novembre et du 8 mai à Rouillac et selon les années à Fleurac\, Marcillac-Lanville\, Saint Cybardeaux et autres villages du Rouillacais. \nCette année la Batterie Harmonie de Rouillac a organisé une rencontre avec celles de Saint Savinien\, Matha et Saint Jean d’Angély de Charente maritime. La Batterie Harmonie de Rouillac s’est déplacée en Bavière pour les 50 ans du jumelage de Weisentheid et de Rouillac. \n  \n 
URL:https://www.ville-de-jarnac.fr/agenda/concert-batterie-harmonie-de-rouillac/
LOCATION:Auditorium Maurice Ravel\, 42\, route de Luchac\, Jarnac\, 16200
CATEGORIES:Animation
END:VEVENT
END:VCALENDAR