BEGIN:VCALENDAR
VERSION:2.0
PRODID:-//Ville de Jarnac - ECPv6.10.2//NONSGML v1.0//EN
CALSCALE:GREGORIAN
METHOD:PUBLISH
X-WR-CALNAME:Ville de Jarnac
X-ORIGINAL-URL:https://www.ville-de-jarnac.fr
X-WR-CALDESC:Évènements pour Ville de Jarnac
REFRESH-INTERVAL;VALUE=DURATION:PT1H
X-Robots-Tag:noindex
X-PUBLISHED-TTL:PT1H
BEGIN:VTIMEZONE
TZID:Europe/Paris
BEGIN:DAYLIGHT
TZOFFSETFROM:+0100
TZOFFSETTO:+0200
TZNAME:CEST
DTSTART:20220327T010000
END:DAYLIGHT
BEGIN:STANDARD
TZOFFSETFROM:+0200
TZOFFSETTO:+0100
TZNAME:CET
DTSTART:20221030T010000
END:STANDARD
END:VTIMEZONE
BEGIN:VEVENT
DTSTART;TZID=Europe/Paris:20220903T100000
DTEND;TZID=Europe/Paris:20220903T173000
DTSTAMP:20260425T021912
CREATED:20220830T141438Z
LAST-MODIFIED:20220830T141438Z
UID:10498-1662199200-1662226200@www.ville-de-jarnac.fr
SUMMARY:Forum des associations
DESCRIPTION:Les associations sportives\, culturelles\, sociales\, d’entraides et de services de Jarnac ainsi que les associations sportives de l’ex Communauté de Communes de Jarnac vous informent sur leurs activités.\nVenez les rencontrer et vous renseigner en famille.\nSalle des fêtes. Entrée libre.\nOuvert au public de 10h à 17h30
URL:https://www.ville-de-jarnac.fr/agenda/forum-des-associations-5/
LOCATION:Salle des Fêtes\, 42\, route de Luchac\, JARNAC\, 16200
CATEGORIES:Animation
END:VEVENT
BEGIN:VEVENT
DTSTART;TZID=Europe/Paris:20220904T140000
DTEND;TZID=Europe/Paris:20220904T170000
DTSTAMP:20260425T021912
CREATED:20220901T095940Z
LAST-MODIFIED:20220901T095940Z
UID:10502-1662300000-1662310800@www.ville-de-jarnac.fr
SUMMARY:Courses hippiques
DESCRIPTION:
URL:https://www.ville-de-jarnac.fr/agenda/courses-hippiques/
LOCATION:Hippodrome du quint\, Quai ile Madame
CATEGORIES:Animation
END:VEVENT
BEGIN:VEVENT
DTSTART;VALUE=DATE:20220909
DTEND;VALUE=DATE:20220911
DTSTAMP:20260425T021912
CREATED:20220901T100443Z
LAST-MODIFIED:20220901T100501Z
UID:10517-1662681600-1662854399@www.ville-de-jarnac.fr
SUMMARY:80 ans du basket
DESCRIPTION:Le JSBB fête ses 80ans !\nJoueuses\, joueurs\, partenaires\, parents\, enfants\, nouveaux ou anciens licenciés\, fêtons ensemble l’anniversaire de notre club historique\nAu programme de ce week-end festif :\nVendredi 09 Septembre à partir de 20h30 au COSEC :\n– Mise en avant du basket Handisport avec le club Entente Sportive Blanquefortaise handisport (Démonstration\, pratique mise à l’honneur)\n– Buvette\nSamedi 10 Septembre à partir de 11h sur la place du Château :\n– Animation pour les adultes les petits\n– Restauration / Buvette\nSamedi 10 Septembre à partir de 19h30 à la salle des fêtes de Jarnac :\n– Repas\n– Concert « Les Back’us »\n– Soirée Dansante
URL:https://www.ville-de-jarnac.fr/agenda/10517/
CATEGORIES:Animation,Soirée dansante,sport
END:VEVENT
BEGIN:VEVENT
DTSTART;TZID=Europe/Paris:20220911T090000
DTEND;TZID=Europe/Paris:20220911T170000
DTSTAMP:20260425T021912
CREATED:20220901T100124Z
LAST-MODIFIED:20220901T100124Z
UID:10513-1662886800-1662915600@www.ville-de-jarnac.fr
SUMMARY:Courses hippiques
DESCRIPTION:
URL:https://www.ville-de-jarnac.fr/agenda/courses-hippiques-2/
LOCATION:Hippodrome du quint\, Quai ile Madame
CATEGORIES:Animation
END:VEVENT
BEGIN:VEVENT
DTSTART;VALUE=DATE:20220917
DTEND;VALUE=DATE:20220918
DTSTAMP:20260425T021912
CREATED:20220901T101500Z
LAST-MODIFIED:20220901T101500Z
UID:10525-1663372800-1663459199@www.ville-de-jarnac.fr
SUMMARY:
DESCRIPTION:
URL:https://www.ville-de-jarnac.fr/agenda/10525/
LOCATION:plan d’eau\, JARNAC\, 16200
CATEGORIES:Animation,sport
END:VEVENT
BEGIN:VEVENT
DTSTART;TZID=Europe/Paris:20220917T160000
DTEND;TZID=Europe/Paris:20220917T173000
DTSTAMP:20260425T021912
CREATED:20220628T114421Z
LAST-MODIFIED:20220628T114421Z
UID:10378-1663430400-1663435800@www.ville-de-jarnac.fr
SUMMARY:"Au pied de l'arbre"\, balade contée familiale
DESCRIPTION:Dans le cadre des Journées du Patrimoine\, le service culturel propose une promenade à la découverte des arbres du parc\, en compagnie d’Agnès et Joseph Doherty. \nPromenade contée et musicale\, pour toute la famille dès 6 ans. \nRDV 15h45 à l’écluse pour un départ à 16h. \nGratuit\, réservation obligatoire au 05 45 81 47 34 \n 
URL:https://www.ville-de-jarnac.fr/agenda/au-pied-de-larbre-balade-contee-familiale/
LOCATION:Ile du Parc
CATEGORIES:Animation
END:VEVENT
BEGIN:VEVENT
DTSTART;TZID=Europe/Paris:20220918T140000
DTEND;TZID=Europe/Paris:20220918T170000
DTSTAMP:20260425T021912
CREATED:20220901T100224Z
LAST-MODIFIED:20220901T100224Z
UID:10515-1663509600-1663520400@www.ville-de-jarnac.fr
SUMMARY:Courses hippiques
DESCRIPTION:
URL:https://www.ville-de-jarnac.fr/agenda/courses-hippiques-3/
LOCATION:Hippodrome du quint\, Quai ile Madame
CATEGORIES:Animation
END:VEVENT
BEGIN:VEVENT
DTSTART;TZID=Europe/Paris:20220922T153000
DTEND;TZID=Europe/Paris:20220922T193000
DTSTAMP:20260425T021912
CREATED:20220914T081630Z
LAST-MODIFIED:20220914T081630Z
UID:10609-1663860600-1663875000@www.ville-de-jarnac.fr
SUMMARY:Collecte de sang
DESCRIPTION:Une collecte de sang est organisée par l’Amicale des Donneurs de Sang de Jarnac de 15h30 à 19h30 à la Salle des Fêtes de Jarnac.
URL:https://www.ville-de-jarnac.fr/agenda/collecte-de-sang-32/
LOCATION:Salle des Fêtes\, 42\, route de Luchac\, JARNAC\, 16200
CATEGORIES:Animation
END:VEVENT
BEGIN:VEVENT
DTSTART;TZID=Europe/Paris:20220922T173000
DTEND;TZID=Europe/Paris:20220922T190000
DTSTAMP:20260425T021912
CREATED:20220901T105356Z
LAST-MODIFIED:20220901T105356Z
UID:10542-1663867800-1663873200@www.ville-de-jarnac.fr
SUMMARY:Atelier d'écriture
DESCRIPTION:A 17h30 à la Médiathèque de Jarnac\nPrésentation publique de l’Atelier d’Ecriture\npar Jean Claude Scant et Janine Martin Sacriste\nPour illustrer leur méthode travail\, au cours de cette séance\, les deux animateurs liront quelques uns des textes écrits lors de la dernière saison.\nJean Claude Scant \, ex comédien et auteur de théâtre\, anime des ateliers d’écriture depuis plusieurs années.\nJanine Martin Sacriste\, auteur de trois ouvrages qui figurent au catalogue de la Médiathèque (Editions l’œil de la méduse) est membre de l’Atelier depuis 2019.\nLe petit recueil « Jeux d’Ecriture deuxième saison » sera disponible à l’accueil. \n 
URL:https://www.ville-de-jarnac.fr/agenda/atelier-decriture/
LOCATION:Médiathèque Intercommunale\, 10\, quai de l'Orangerie\, JARNAC\, 16200\, France
CATEGORIES:Animation
END:VEVENT
END:VCALENDAR