BEGIN:VCALENDAR
VERSION:2.0
PRODID:-//Ville de Jarnac - ECPv6.10.2//NONSGML v1.0//EN
CALSCALE:GREGORIAN
METHOD:PUBLISH
X-ORIGINAL-URL:https://www.ville-de-jarnac.fr
X-WR-CALDESC:Évènements pour Ville de Jarnac
REFRESH-INTERVAL;VALUE=DURATION:PT1H
X-Robots-Tag:noindex
X-PUBLISHED-TTL:PT1H
BEGIN:VTIMEZONE
TZID:Europe/Paris
BEGIN:DAYLIGHT
TZOFFSETFROM:+0100
TZOFFSETTO:+0200
TZNAME:CEST
DTSTART:20220327T010000
END:DAYLIGHT
BEGIN:STANDARD
TZOFFSETFROM:+0200
TZOFFSETTO:+0100
TZNAME:CET
DTSTART:20221030T010000
END:STANDARD
END:VTIMEZONE
BEGIN:VEVENT
DTSTART;VALUE=DATE:20220718
DTEND;VALUE=DATE:20220811
DTSTAMP:20260425T034034
CREATED:20220628T143245Z
LAST-MODIFIED:20220628T143245Z
UID:10379-1658102400-1660175999@www.ville-de-jarnac.fr
SUMMARY:Ateliers de "mapping"
DESCRIPTION:L’association Arts Jarnac Festival propose des ateliers artistiques de « mapping » tout public et gratuits les mardis\, mercredis\, et jeudis\, entre 17h et 18h30\, devant la boutique éphémère du 4 rue du Portillon. \nAfin de présenter le collectif d’artistes et l’association\, la boutique éphémère sera ouverte les après-midis du 18 juillet au 10 Aout à partir de 14h.\nRenseignements & inscriptions : 06 64 14 28 61
URL:https://www.ville-de-jarnac.fr/agenda/ateliers-de-mapping/
CATEGORIES:Animation
END:VEVENT
END:VCALENDAR