BEGIN:VCALENDAR
VERSION:2.0
PRODID:-//Ville de Jarnac - ECPv6.10.2//NONSGML v1.0//EN
CALSCALE:GREGORIAN
METHOD:PUBLISH
X-ORIGINAL-URL:https://www.ville-de-jarnac.fr
X-WR-CALDESC:Évènements pour Ville de Jarnac
REFRESH-INTERVAL;VALUE=DURATION:PT1H
X-Robots-Tag:noindex
X-PUBLISHED-TTL:PT1H
BEGIN:VTIMEZONE
TZID:Europe/Paris
BEGIN:DAYLIGHT
TZOFFSETFROM:+0100
TZOFFSETTO:+0200
TZNAME:CEST
DTSTART:20210328T010000
END:DAYLIGHT
BEGIN:STANDARD
TZOFFSETFROM:+0200
TZOFFSETTO:+0100
TZNAME:CET
DTSTART:20211031T010000
END:STANDARD
END:VTIMEZONE
BEGIN:VEVENT
DTSTART;TZID=Europe/Paris:20211215T160000
DTEND;TZID=Europe/Paris:20211215T190000
DTSTAMP:20260425T153110
CREATED:20211202T133819Z
LAST-MODIFIED:20211202T133819Z
UID:9837-1639584000-1639594800@www.ville-de-jarnac.fr
SUMMARY:PARCOURS ARTISTIQUE - Itinéraire Conseillé
DESCRIPTION:
URL:https://www.ville-de-jarnac.fr/agenda/parcours-artistique-itineraire-conseille/
LOCATION:centre-ville
CATEGORIES:Animation,Exposition
ORGANIZER;CN="Art Jarnac Festival":MAILTO:clairelaporte123@gmail.com
END:VEVENT
END:VCALENDAR