BEGIN:VCALENDAR
VERSION:2.0
PRODID:-//Ville de Jarnac - ECPv6.10.2//NONSGML v1.0//EN
CALSCALE:GREGORIAN
METHOD:PUBLISH
X-WR-CALNAME:Ville de Jarnac
X-ORIGINAL-URL:https://www.ville-de-jarnac.fr
X-WR-CALDESC:Évènements pour Ville de Jarnac
REFRESH-INTERVAL;VALUE=DURATION:PT1H
X-Robots-Tag:noindex
X-PUBLISHED-TTL:PT1H
BEGIN:VTIMEZONE
TZID:Europe/Paris
BEGIN:DAYLIGHT
TZOFFSETFROM:+0100
TZOFFSETTO:+0200
TZNAME:CEST
DTSTART:20210328T010000
END:DAYLIGHT
BEGIN:STANDARD
TZOFFSETFROM:+0200
TZOFFSETTO:+0100
TZNAME:CET
DTSTART:20211031T010000
END:STANDARD
END:VTIMEZONE
BEGIN:VEVENT
DTSTART;VALUE=DATE:20210924
DTEND;VALUE=DATE:20210926
DTSTAMP:20260425T202004
CREATED:20210916T132315Z
LAST-MODIFIED:20210916T132315Z
UID:9635-1632441600-1632614399@www.ville-de-jarnac.fr
SUMMARY:Braderie des commerçants
DESCRIPTION:Organisée par l’ACIA. \nDe 9h30 à 19h \nPasse sanitaire non obligatoire
URL:https://www.ville-de-jarnac.fr/agenda/braderie-des-commercants/
CATEGORIES:Animation
END:VEVENT
END:VCALENDAR