BEGIN:VCALENDAR
VERSION:2.0
PRODID:-//Ville de Jarnac - ECPv6.10.2//NONSGML v1.0//EN
CALSCALE:GREGORIAN
METHOD:PUBLISH
X-WR-CALNAME:Ville de Jarnac
X-ORIGINAL-URL:https://www.ville-de-jarnac.fr
X-WR-CALDESC:Évènements pour Ville de Jarnac
REFRESH-INTERVAL;VALUE=DURATION:PT1H
X-Robots-Tag:noindex
X-PUBLISHED-TTL:PT1H
BEGIN:VTIMEZONE
TZID:Europe/Paris
BEGIN:DAYLIGHT
TZOFFSETFROM:+0100
TZOFFSETTO:+0200
TZNAME:CEST
DTSTART:20260329T010000
END:DAYLIGHT
BEGIN:STANDARD
TZOFFSETFROM:+0200
TZOFFSETTO:+0100
TZNAME:CET
DTSTART:20261025T010000
END:STANDARD
END:VTIMEZONE
BEGIN:VEVENT
DTSTART;TZID=Europe/Paris:20260418T140000
DTEND;TZID=Europe/Paris:20260425T183000
DTSTAMP:20260422T033131
CREATED:20260407T123504Z
LAST-MODIFIED:20260407T123504Z
UID:14084-1776520800-1777141800@www.ville-de-jarnac.fr
SUMMARY:Exposition de Jarnac'Art
DESCRIPTION:
URL:https://www.ville-de-jarnac.fr/agenda/exposition-de-jarnacart-5/
LOCATION:Hôtel Renard\, 14\, quai de l'Orangerie\, JARNAC\, 16200
CATEGORIES:Exposition
END:VEVENT
BEGIN:VEVENT
DTSTART;TZID=Europe/Paris:20260422T231500
DTEND;TZID=Europe/Paris:20260422T231500
DTSTAMP:20260422T033131
CREATED:20260319T140857Z
LAST-MODIFIED:20260319T140857Z
UID:14049-1776899700-1776899700@www.ville-de-jarnac.fr
SUMMARY:Cinéma : "Le Mage du Kremlin"
DESCRIPTION:Les Cinémaniacs proposent la projection du film «  LE MAGE DU KREMLIN »\, à 20H45 à l’auditorium de Jarnac. \n\n\nDe Olivier AssayasAvec Paul Dano\, Jude Law\, Alicia VikanderGenre ThrillerNationalité France\, USADurée 2h 25 \n\n\n\nTout public \nRussie\, dans les années 1990. L’URSS s’effondre. Dans le tumulte d’un pays en reconstruction\, un jeune homme à l’intelligence redoutable\, Vadim Baranov\, trace sa voie. D’abord artiste puis producteur de télé-réalité\, il devient le conseiller officieux d’un ancien agent du KGB promis à un pouvoir absolu\, le futur « Tsar » Vladimir Poutine.Plongé au cœur du système\, Baranov devient un rouage central de la nouvelle Russie\, façonnant les discours\, les images\, les perceptions. Mais une présence échappe à son contrôle : Ksenia\, femme libre et insaisissable\, incarne une échappée possible\, loin des logiques d’influence et de domination.Quinze ans plus tard\, après s’être retiré dans le silence\, Baranov accepte de parler. Ce qu’il révèle alors brouille les frontières entre réalité et fiction\, conviction et stratégie. Le Mage du Kremlin est une plongée dans les arcanes du pouvoir\, un récit où chaque mot dissimule une faille. \nBande-annonce?wmode=transparent" width="WIDTH" height="HEIGHT" >
URL:https://www.ville-de-jarnac.fr/agenda/cinema-le-mage-du-kremlin/
LOCATION:Auditorium Maurice Ravel\, 42\, route de Luchac\, Jarnac\, 16200
CATEGORIES:Cinéma
END:VEVENT
END:VCALENDAR